Workbook
Name C.02200: #REF!
Name C.02200: #REF!
Name C.02200: #REF!
Name C.03300: #REF!
Name C.03300: #REF!
Name C.03300: #REF!
Name C.04200: #REF!
Name C.04200: #REF!
Name C.04200: #REF!
Name C.04400: #REF!
Name C.04400: #REF!
Name C.04400: #REF!
Name C.05120: #REF!
Name C.05120: #REF!
Name C.05120: #REF!
Name C.05300: #REF!
Name C.05300: #REF!
Name C.05300: #REF!
Name C.05400: #REF!
Name C.05400: #REF!
Name C.05400: #REF!
Name C.05500: #REF!
Name C.05500: #REF!
Name C.05500: #REF!
Name C.06100: #REF!
Name C.06100: #REF!
Name C.06100: #REF!
Name C.06130: #REF!
Name C.06130: #REF!
Name C.06130: #REF!
Name C.06400: #REF!
Name C.06400: #REF!
Name C.06400: #REF!
Name C.07160: #REF!
Name C.07160: #REF!
Name C.07160: #REF!
Name C.07210: #REF!
Name C.07210: #REF!
Name C.07210: #REF!
Name C.07240: #REF!
Name C.07240: #REF!
Name C.07240: #REF!
Name C.07300: #REF!
Name C.07300: #REF!
Name C.07300: #REF!
Name C.07410: #REF!
Name C.07410: #REF!
Name C.07410: #REF!
Name C.07460: #REF!
Name C.07460: #REF!
Name C.07460: #REF!
Name C.07500: #REF!
Name C.07500: #REF!
Name C.07500: #REF!
Name C.07620: #REF!
Name C.07620: #REF!
Name C.07620: #REF!
Name C.07630: #REF!
Name C.07630: #REF!
Name C.07630: #REF!

Sheet General Information
A1: Instructions
D2: PROGRAMMING: | E2: GENERAL INFORMATION
D3: School Name: | E3: =IF($D$14=0,"",$D$14)
D4: City, State: | E4: =IF($D$16=0,"",$D$16)
D5: Date Completed: | F5: Completed By:
D6: Last Updated: | F6: Last Updated By:
A8: 1. School Contact Information:
B11: CATEGORY | D11: INFORMATION
B12: Legal Name of Organization & Entity Type
B13: State of Incorporation
B14: DBA ("Doing Business As") / Preferred Name
B15: Street Address (School Mailing Address)
B16: City, State, Zip Code
B17: Street Address (Project Location, if different)
B18: City, State, Zip Code
B19: School Phone Number
B20: Tax ID Number
B21: Size of Project Site Location (in acres)
B22: Size of Existing Buildings (in SF)
B23: School Website
... B28: Preferred Contact Method (Office, Cell, Email)
A30: 2. School Background and Governance:
B33: CATEGORY | D33: INFORMATION
B34: Year School Founded
B35: Affiliation / Accreditation
B36: Headmaster / Principal's Name
B37: Number of Faculty / Teachers
B38: Total Staff (including Faculty / Teachers) | E38: Full-Time: | G38: Part-Time:
B39: Is there a Board of Trustees?
B40: Number of Board Members?
B41: What requires Board Approval?
B42: Who is Headmaster accountable to?

Sheet Enrollment Breakdown
A1: Instructions
D2: PROGRAMMING: | E2: ENROLLMENT BREAKDOWN ANALYSIS
D3: School Name: | E3: =IF('General Information'!$D$14=0,"",'General Information'!$D$14)
D4: City, State: | E4: =IF('General Information'!$D$16=0,"",'General Information'!$D$16)
D5: Date Completed: | F5: Completed By:
D6: Last Updated: | F6: Last Updated By:
D7: School Year: | E7: 2025
A9: 1. Enrollment Information
B12: SCHOOL YEAR BEGINNING IN FALL OF… | D12: # OF STUDENTS ENROLLED | E12: ANNUAL GROWTH RATE | F12: # OF GRADES OFFERED AT SCHOOL | G12: COMMENTS
C14: =$E$7-5 -> 2020 | E14: =(D14-D13)/D13 -> #DIV/0!
C15: =$E$7-4 -> 2021 | E15: =(D15-D14)/D14 -> #DIV/0!
C16: =$E$7-3 -> 2022 | E16: =(D16-D15)/D15 -> #DIV/0!
C17: =$E$7-2 -> 2023 | E17: =(D17-D16)/D16 -> #DIV/0!
C18: =$E$7-1 -> 2024 | E18: =(D18-D17)/D17 -> #DIV/0!
C19: =$E$7 -> 2025 | E19: =(D19-D18)/D18 -> #DIV/0!
C20: 2025 | E20: =(D20-D19)/D19 -> #DIV/0!
C21: 2026 | E21: =(D21-D20)/D20 -> #DIV/0!
C22: 2027 | E22: =(D22-D21)/D21 -> #DIV/0!
B23: Average Annual Growth Rate | E23: =SUM(E14:E22)/9 -> #DIV/0!
B25: FUTURE PROJECTIONS | D25: FUTURE # OF STUENDENTS ENROLLED | E25: % OF GROWTH ANTICIPATED (PER YEAR) | F25: COMMENTS
C26: =$E$7+3 -> 2028 | D26: {=#REF!+(#REF!*E28E26)} -> #REF! | E26: 0
C27: =$E$7+4 -> 2029 | D27: =D26+(D26*E27) -> #REF! | E27: 0
C28: =$E$7+5 -> 2030 | D28: =D27+(D27*E28) -> #REF! | E28: 0
C29: =$E$7+6 -> 2031 | D29: =D28+(D28*E29) -> #REF! | E29: 0
C30: =$E$7+7 -> 2032 | D30: =D29+(D29*E30) -> #REF! | E30: 0
C31: =$E$7+8 -> 2033 | D31: =D30+(D30*E31) -> #REF! | E31: 0
C32: =$E$7+9 -> 2034 | D32: =D31+(D31*E32) -> #REF! | E32: 0
C33: =$E$7+10 -> 2035 | D33: =D32+(D32*E33) -> #REF! | E33: 0
A35: 2. Number of Students (Now and Future)
B38: AGE / GRADE BREAKDOWN | D38: CURRENT ENROLLMENT | E38: END OF NEXT PHASE | F38: FULL BUILD-OUT | G38: COMMENTS
B39: DAYCARE / PRESCHOOL
C40: Birth to 1 Year | D40: 0 | E40: 0 | F40: 0
C41: 1 Yrs | D41: 0 | E41: 0 | F41: 0
C42: 2 Yrs | D42: 0 | E42: 0 | F42: 0
C43: 3 Yrs | D43: 0 | E43: 0 | F43: 0
C44: 4 Yrs | D44: 0 | E44: 0 | F44: 0
B45: ELEMENTARY SCHOOL
C46: Kindergarten | D46: 0 | E46: 0 | F46: 0
C47: 1st Grade | D47: 0 | E47: 0 | F47: 0
C48: 2nd Grade | D48: 0 | E48: 0 | F48: 0
C49: 3rd Grade | D49: 0 | E49: 0 | F49: 0
C50: 4th Grade | D50: 0 | E50: 0 | F50: 0
C51: 5th Grade | D51: 0 | E51: 0 | F51: 0
B52: MIDDLE SCHOOL
C53: 6th Grade | D53: 0 | E53: 0 | F53: 0
C54: 7th Grade | D54: 0 | E54: 0 | F54: 0
C55: 8th Grade | D55: 0 | E55: 0 | F55: 0
B56: HIGH SCHOOL
C57: 9th Grade | D57: 0 | E57: 0 | F57: 0
C58: 10th Grade | D58: 0 | E58: 0 | F58: 0
C59: 11th Grade | D59: 0 | E59: 0 | F59: 0
C60: 12th Grade | D60: 0 | E60: 0 | F60: 0
B62: TOTAL ENROLLMENT | D62: =SUM(D39:D61) -> 0 | E62: =SUM(E39:E61) -> 0 | F62: =SUM(F39:F61) -> 0
B64: SITE / PARKING | D64: # | E64: COMMENTS
B65: TOTAL # OF SITE ACRES | D65: 0
B66: TOTAL # OF CURRENT PARKING SPACES | D66: 0
B67: AVERAGE # OF CARS ON CAMPUS (M-F) | D67: 0
B68: AVERAGE % OF PARKING CAPACITY | D68: =D67/D$66 -> #DIV/0!

Sheet Existing Space Use
A1: Instructions
D2: PROGRAMMING: | E2: EXISTING SPACE USE ANALYSIS
D3: School Name: | E3: =IF('General Information'!$D$14=0,"",'General Information'!$D$14)
D4: City, State: | E4: =IF('General Information'!$D$16=0,"",'General Information'!$D$16)
D5: Date Completed: | F5: Completed By:
D6: Last Updated: | F6: Last Updated By:
A8: 1. Square Footage for Existing Facilities
B11: ADMINISTRATION / GENERAL AREAS | D11: TOTAL SF | E11: # | F11: SF PER | G11: COMMENTS
C12: Principal's / Headmaster's Office | D12: 0 | E12: 0 | F12: =D12/E12 -> #DIV/0!
C13: Assistant Principal | D13: 0 | E13: 0 | F13: =D13/E13 -> #DIV/0!
C14: Guidance Counselor | D14: 0 | E14: 0 | F14: =D14/E14 -> #DIV/0!
C15: Bookeeper / Accountant | D15: 0 | E15: 0 | F15: =D15/E15 -> #DIV/0!
C16: Secretarial Space | D16: 0 | E16: 0 | F16: =D16/E16 -> #DIV/0!
C17: Reception | D17: 0 | E17: 0 | F17: =D17/E17 -> #DIV/0!
C18: Work Room | D18: 0 | E18: 0 | F18: =D18/E18 -> #DIV/0!
C19: Conference Room | D19: 0 | E19: 0 | F19: =D19/E19 -> #DIV/0!
C20: School Nurse / Clinic | D20: 0 | E20: 0 | F20: =D20/E20 -> #DIV/0!
C21: Storage | D21: 0 | E21: 0 | F21: =D21/E21 -> #DIV/0!
C22: Student Records | D22: 0 | E22: 0 | F22: =D22/E22 -> #DIV/0!
C23: School Store | D23: 0 | E23: 0 | F23: =D23/E23 -> #DIV/0!
... C36: Circulation / Lobby / Hallways | D36: 0 | E36: 0 | F36: =D36/E36 -> #DIV/0!
C37: Other (List Below):
D38: 0 | E38: 0 | F38: =D38/E38 -> #DIV/0!
C40: Admin / General Total | D40: =SUM(D12:D39) -> 0 | G40: (Totals from Above)
B42: CLASSROOMS | D42: CURRENT SF | E42: # STUDENTS | F42: SF / STUDENT | G42: COMMENTS
C43: Birth to 1 Year | D43: 0 | E43: ='Enrollment Breakdown'!D40 -> 0 | F43: =D43/E43 -> #DIV/0!
C44: 1 Year Olds | D44: 0 | E44: ='Enrollment Breakdown'!D41 -> 0 | F44: =D44/E44 -> #DIV/0!
C45: 2 Year Olds | D45: 0 | E45: ='Enrollment Breakdown'!D42 -> 0 | F45: =D45/E45 -> #DIV/0!
C46: 3 Year Olds | D46: 0 | E46: ='Enrollment Breakdown'!D43 -> 0 | F46: =D46/E46 -> #DIV/0!
C47: 4 Year Olds | D47: 0 | E47: ='Enrollment Breakdown'!D44 -> 0 | F47: =D47/E47 -> #DIV/0!
C48: Other (List Below):
D49: 0
C51: Preschool / Daycare Subtotal | D51: =SUM(D43:D50) -> 0 | E51: =SUM(E43:E50) -> 0 | F51: =D51/E51 -> #DIV/0! | G51: (Totals from Above)
C52: Kindergarten | D52: 0 | E52: ='Enrollment Breakdown'!D46 -> 0 | F52: =D52/E52 -> #DIV/0!
C53: 1st Grade | D53: 0 | E53: ='Enrollment Breakdown'!D47 -> 0 | F53: =D53/E53 -> #DIV/0!
C54: 2nd Grade | D54: 0 | E54: ='Enrollment Breakdown'!D48 -> 0 | F54: =D54/E54 -> #DIV/0!
C55: 3rd Grade | D55: 0 | E55: ='Enrollment Breakdown'!D49 -> 0 | F55: =D55/E55 -> #DIV/0!
C56: 4th Grade | D56: 0 | E56: ='Enrollment Breakdown'!D50 -> 0 | F56: =D56/E56 -> #DIV/0!
C57: 5th Grade | D57: 0 | E57: ='Enrollment Breakdown'!D51 -> 0 | F57: =D57/E57 -> #DIV/0!
C58: Other (List Below):
D59: 0
C61: Elementary Subtotal | D61: =SUM(D52:D60) -> 0 | E61: =SUM(E52:E60) -> 0 | F61: =D61/E61 -> #DIV/0! | G61: (Totals from Above)
C62: 6th Grade | D62: 0 | E62: ='Enrollment Breakdown'!D53 -> 0 | F62: =D62/E62 -> #DIV/0!
C63: 7th Grade | D63: 0 | E63: ='Enrollment Breakdown'!D54 -> 0 | F63: =D63/E63 -> #DIV/0!
C64: 8th Grade | D64: 0 | E64: ='Enrollment Breakdown'!D55 -> 0 | F64: =D64/E64 -> #DIV/0!
C65: Other (List Below):
D66: 0
C68: Middle School Subtotal | D68: =SUM(D62:D67) -> 0 | E68: =SUM(E62:E67) -> 0 | F68: =D68/E68 -> #DIV/0! | G68: (Totals from Above)
C69: 9th Grade | D69: 0 | E69: ='Enrollment Breakdown'!D57 -> 0 | F69: =D69/E69 -> #DIV/0!
C70: 10th Grade | D70: 0 | E70: ='Enrollment Breakdown'!D58 -> 0 | F70: =D70/E70 -> #DIV/0!
C71: 11th Grade | D71: 0 | E71: ='Enrollment Breakdown'!D59 -> 0 | F71: =D71/E71 -> #DIV/0!
C72: 12th Grade | D72: 0 | E72: ='Enrollment Breakdown'!D60 -> 0 | F72: =D72/E72 -> #DIV/0!
C73: Other (List Below):
D74: 0
C76: High School Subtotal | D76: =SUM(D69:D75) -> 0 | E76: =SUM(E69:E75) -> 0 | F76: =D76/E76 -> #DIV/0! | G76: (Totals from Above)
C78: Classrooms Total | D78: =SUM(D43:D77)-D51-D61-D68-D76 -> 0 | E78: =SUM(E43:E77)-E51-E61-E68-E76 -> 0 | F78: =D78/E78 -> #DIV/0! | G78: (Totals from Above)
B80: SPECIALTY SPACES | D80: TOTAL SF | E80: # | F80: SF PER | G80: COMMENTS
C81: Resource Room | D81: 0 | E81: 0 | F81: =D81/E81 -> #DIV/0!
C82: Art - Elementary | D82: 0 | E82: 0 | F82: =D82/E82 -> #DIV/0!
C83: Art - Middle School | D83: 0 | E83: 0 | F83: =D83/E83 -> #DIV/0!
C84: Art - High School | D84: 0 | E84: 0 | F84: =D84/E84 -> #DIV/0!
C85: Music - Elementary | D85: 0 | E85: 0 | F85: =D85/E85 -> #DIV/0!
C86: Music (Vocal) - Middle & High School | D86: 0 | E86: 0 | F86: =D86/E86 -> #DIV/0!
C87: Music (Band) - Middle & High School | D87: 0 | E87: 0 | F87: =D87/E87 -> #DIV/0!
C88: Drama - Middle & High School | D88: 0 | E88: 0 | F88: =D88/E88 -> #DIV/0!
C89: PE - Gymnasium | D89: 0 | E89: 0 | F89: =D89/E89 -> #DIV/0!
C90: PE - Classrooms (Health / Fitness) | D90: 0 | E90: 0 | F90: =D90/E90 -> #DIV/0!
C91: PE - Locker Room (Men) | D91: 0 | E91: 0 | F91: =D91/E91 -> #DIV/0!
C92: PE - Locker Room (Women) | D92: 0 | E92: 0 | F92: =D92/E92 -> #DIV/0!
... C109: High School Restrooms (Girls) | D109: 0 | E109: 0 | F109: =D109/E109 -> #DIV/0!
C110: Other (List Below):
D111: 0 | E111: 0 | F111: =D111/E111 -> #DIV/0!
C113: Specialty Spaces Total | D113: =SUM(D81:D112) -> 0 | G113: (Totals From Above)
B115: ENTIRE BUILDING | D115: CURRENT SF | E115: FACTORS | F115: SF PER… | G115: COMMENTS
C116: Total Net SF | D116: =D40+D78+D113 -> 0
C117: Total Net SF Per Current Enrollee | F117: =D116/'Enrollment Breakdown'!D19 -> #DIV/0!
C118: Total Gross SF | D118: 0 | G118: Insert Gross SF from existing plans
C119: Total Gross SF Per Current Enrollee | F119: =D118/'Enrollment Breakdown'!D19 -> #DIV/0!
C120: Building Efficiency | E120: =D116/D118 -> #DIV/0!
C121: Gross Factor | E121: =D118/D116 -> #DIV/0!
A123: 2. Square Footage of Existing Exterior Spaces
B126: EXTERIOR | D126: CURRENT SF | E126: ACRES | F126: SF / STUDENT | G126: COMMENTS
C127: Parking / Driveway Paved Areas | D127: 0 | E127: =D127/43560 -> 0 | F127: =D127/'Enrollment Breakdown'!D19 -> #DIV/0! | G127: Paved parking lots and drive aisles
C128: Gathering Areas | D128: 0 | E128: =D128/43560 -> 0 | F128: =D128/'Enrollment Breakdown'!D19 -> #DIV/0! | G128: Exterior courtyards and plazas
C129: Exterior Play Areas | D129: 0 | E129: =D129/43560 -> 0 | F129: =D129/'Enrollment Breakdown'!D19 -> #DIV/0! | G129: Children's Playgrounds, ball fields
C130: Covered Drop-off | D130: 0 | E130: =D130/43560 -> 0 | F130: =D130/'Enrollment Breakdown'!D19 -> #DIV/0! | G130: Covered drop-offs & sheltered walks
C131: Other (List Below):
D132: 0 | E132: =D132/43560 -> 0 | F132: =D132/'Enrollment Breakdown'!D19 -> #DIV/0!
C134: Exterior Total | D134: =SUM(D127:D133) -> 0 | E134: =D134/43560 -> 0 | F134: =D134/'Enrollment Breakdown'!D19 -> #DIV/0! | G134: (Totals From Above)
